BEGIN:VCALENDAR
VERSION:2.0
PRODID:-//神奈川県生活協同組合連合会 - ECPv5.9.1//NONSGML v1.0//EN
CALSCALE:GREGORIAN
METHOD:PUBLISH
X-WR-CALNAME:神奈川県生活協同組合連合会
X-ORIGINAL-URL:https://eplan-e.com/wp-521
X-WR-CALDESC:神奈川県生活協同組合連合会 のイベント
BEGIN:VTIMEZONE
TZID:Asia/Tokyo
BEGIN:STANDARD
TZOFFSETFROM:+0900
TZOFFSETTO:+0900
TZNAME:JST
DTSTART:20240101T000000
END:STANDARD
END:VTIMEZONE
BEGIN:VEVENT
DTSTART;VALUE=DATE:20240327
DTEND;VALUE=DATE:20240328
DTSTAMP:20260423T010857
CREATED:20231217T024301Z
LAST-MODIFIED:20231217T024309Z
UID:12747-1711497600-1711583999@eplan-e.com
SUMMARY:福祉事業連絡会
DESCRIPTION:
URL:https://eplan-e.com/wp-521/calendar/%e7%a6%8f%e7%a5%89%e4%ba%8b%e6%a5%ad%e9%80%a3%e7%b5%a1%e4%bc%9a-5/
END:VEVENT
END:VCALENDAR