BEGIN:VCALENDAR
VERSION:2.0
PRODID:-//神奈川県生活協同組合連合会 - ECPv5.9.1//NONSGML v1.0//EN
CALSCALE:GREGORIAN
METHOD:PUBLISH
X-WR-CALNAME:神奈川県生活協同組合連合会
X-ORIGINAL-URL:https://eplan-e.com/wp-521
X-WR-CALDESC:神奈川県生活協同組合連合会 のイベント
BEGIN:VTIMEZONE
TZID:Asia/Tokyo
BEGIN:STANDARD
TZOFFSETFROM:+0900
TZOFFSETTO:+0900
TZNAME:JST
DTSTART:20230101T000000
END:STANDARD
END:VTIMEZONE
BEGIN:VEVENT
DTSTART;VALUE=DATE:20231117
DTEND;VALUE=DATE:20231118
DTSTAMP:20260423T080516
CREATED:20230915T005112Z
LAST-MODIFIED:20230915T005112Z
UID:12487-1700179200-1700265599@eplan-e.com
SUMMARY:第4回組合員活動委員会
DESCRIPTION:
URL:https://eplan-e.com/wp-521/calendar/%e7%ac%ac4%e5%9b%9e%e7%b5%84%e5%90%88%e5%93%a1%e6%b4%bb%e5%8b%95%e5%a7%94%e5%93%a1%e4%bc%9a-3/
END:VEVENT
BEGIN:VEVENT
DTSTART;VALUE=DATE:20231117
DTEND;VALUE=DATE:20231118
DTSTAMP:20260423T080516
CREATED:20230915T005135Z
LAST-MODIFIED:20230915T005135Z
UID:12488-1700179200-1700265599@eplan-e.com
SUMMARY:第6回生協大会実行委員会
DESCRIPTION:
URL:https://eplan-e.com/wp-521/calendar/%e7%ac%ac6%e5%9b%9e%e7%94%9f%e5%8d%94%e5%a4%a7%e4%bc%9a%e5%ae%9f%e8%a1%8c%e5%a7%94%e5%93%a1%e4%bc%9a/
END:VEVENT
END:VCALENDAR