BEGIN:VCALENDAR
VERSION:2.0
PRODID:-//神奈川県生活協同組合連合会 - ECPv5.9.1//NONSGML v1.0//EN
CALSCALE:GREGORIAN
METHOD:PUBLISH
X-WR-CALNAME:神奈川県生活協同組合連合会
X-ORIGINAL-URL:https://eplan-e.com/wp-521
X-WR-CALDESC:神奈川県生活協同組合連合会 のイベント
BEGIN:VTIMEZONE
TZID:Asia/Tokyo
BEGIN:STANDARD
TZOFFSETFROM:+0900
TZOFFSETTO:+0900
TZNAME:JST
DTSTART:20230101T000000
END:STANDARD
END:VTIMEZONE
BEGIN:VEVENT
DTSTART;VALUE=DATE:20231116
DTEND;VALUE=DATE:20231117
DTSTAMP:20260423T075728
CREATED:20230915T005032Z
LAST-MODIFIED:20230915T005046Z
UID:12486-1700092800-1700179199@eplan-e.com
SUMMARY:医療部会(組織責任者会議)
DESCRIPTION:
URL:https://eplan-e.com/wp-521/calendar/%e5%8c%bb%e7%99%82%e9%83%a8%e4%bc%9a%e7%b5%84%e7%b9%94%e8%b2%ac%e4%bb%bb%e8%80%85%e4%bc%9a%e8%ad%b0-4/
END:VEVENT
END:VCALENDAR