BEGIN:VCALENDAR
VERSION:2.0
PRODID:-//神奈川県生活協同組合連合会 - ECPv5.9.1//NONSGML v1.0//EN
CALSCALE:GREGORIAN
METHOD:PUBLISH
X-WR-CALNAME:神奈川県生活協同組合連合会
X-ORIGINAL-URL:https://eplan-e.com/wp-521
X-WR-CALDESC:神奈川県生活協同組合連合会 のイベント
BEGIN:VTIMEZONE
TZID:Asia/Tokyo
BEGIN:STANDARD
TZOFFSETFROM:+0900
TZOFFSETTO:+0900
TZNAME:JST
DTSTART:20230101T000000
END:STANDARD
END:VTIMEZONE
BEGIN:VEVENT
DTSTART;VALUE=DATE:20231001
DTEND;VALUE=DATE:20231002
DTSTAMP:20260423T110953
CREATED:20230915T004118Z
LAST-MODIFIED:20230915T004118Z
UID:12475-1696118400-1696204799@eplan-e.com
SUMMARY:大船観音慰霊祭
DESCRIPTION:
URL:https://eplan-e.com/wp-521/calendar/%e5%a4%a7%e8%88%b9%e8%a6%b3%e9%9f%b3%e6%85%b0%e9%9c%8a%e7%a5%ad/
END:VEVENT
END:VCALENDAR