BEGIN:VCALENDAR
VERSION:2.0
PRODID:-//神奈川県生活協同組合連合会 - ECPv5.9.1//NONSGML v1.0//EN
CALSCALE:GREGORIAN
METHOD:PUBLISH
X-WR-CALNAME:神奈川県生活協同組合連合会
X-ORIGINAL-URL:https://eplan-e.com/wp-521
X-WR-CALDESC:神奈川県生活協同組合連合会 のイベント
BEGIN:VTIMEZONE
TZID:Asia/Tokyo
BEGIN:STANDARD
TZOFFSETFROM:+0900
TZOFFSETTO:+0900
TZNAME:JST
DTSTART:20230101T000000
END:STANDARD
END:VTIMEZONE
BEGIN:VEVENT
DTSTART;VALUE=DATE:20230922
DTEND;VALUE=DATE:20230923
DTSTAMP:20260423T111031
CREATED:20230806T103824Z
LAST-MODIFIED:20230806T103824Z
UID:12363-1695340800-1695427199@eplan-e.com
SUMMARY:健康チャレンジ推進会
DESCRIPTION:
URL:https://eplan-e.com/wp-521/calendar/%e5%81%a5%e5%ba%b7%e3%83%81%e3%83%a3%e3%83%ac%e3%83%b3%e3%82%b8%e6%8e%a8%e9%80%b2%e4%bc%9a-2/
END:VEVENT
END:VCALENDAR