BEGIN:VCALENDAR
VERSION:2.0
PRODID:-//神奈川県生活協同組合連合会 - ECPv5.9.1//NONSGML v1.0//EN
CALSCALE:GREGORIAN
METHOD:PUBLISH
X-WR-CALNAME:神奈川県生活協同組合連合会
X-ORIGINAL-URL:https://eplan-e.com/wp-521
X-WR-CALDESC:神奈川県生活協同組合連合会 のイベント
BEGIN:VTIMEZONE
TZID:Asia/Tokyo
BEGIN:STANDARD
TZOFFSETFROM:+0900
TZOFFSETTO:+0900
TZNAME:JST
DTSTART:20230101T000000
END:STANDARD
END:VTIMEZONE
BEGIN:VEVENT
DTSTART;VALUE=DATE:20230817
DTEND;VALUE=DATE:20230818
DTSTAMP:20260423T122810
CREATED:20230806T103004Z
LAST-MODIFIED:20230806T103004Z
UID:12348-1692230400-1692316799@eplan-e.com
SUMMARY:医療部会(組織責任者会議)
DESCRIPTION:
URL:https://eplan-e.com/wp-521/calendar/%e5%8c%bb%e7%99%82%e9%83%a8%e4%bc%9a%e7%b5%84%e7%b9%94%e8%b2%ac%e4%bb%bb%e8%80%85%e4%bc%9a%e8%ad%b0-2/
END:VEVENT
END:VCALENDAR