BEGIN:VCALENDAR
VERSION:2.0
PRODID:-//神奈川県生活協同組合連合会 - ECPv5.9.1//NONSGML v1.0//EN
CALSCALE:GREGORIAN
METHOD:PUBLISH
X-WR-CALNAME:神奈川県生活協同組合連合会
X-ORIGINAL-URL:https://eplan-e.com/wp-521
X-WR-CALDESC:神奈川県生活協同組合連合会 のイベント
BEGIN:VTIMEZONE
TZID:Asia/Tokyo
BEGIN:STANDARD
TZOFFSETFROM:+0900
TZOFFSETTO:+0900
TZNAME:JST
DTSTART:20230101T000000
END:STANDARD
END:VTIMEZONE
BEGIN:VEVENT
DTSTART;VALUE=DATE:20230804
DTEND;VALUE=DATE:20230807
DTSTAMP:20260423T122837
CREATED:20230806T102844Z
LAST-MODIFIED:20230806T102844Z
UID:12346-1691107200-1691366399@eplan-e.com
SUMMARY:ヒロシマ親子平和スタディツアー
DESCRIPTION:
URL:https://eplan-e.com/wp-521/calendar/%e3%83%92%e3%83%ad%e3%82%b7%e3%83%9e%e8%a6%aa%e5%ad%90%e5%b9%b3%e5%92%8c%e3%82%b9%e3%82%bf%e3%83%87%e3%82%a3%e3%83%84%e3%82%a2%e3%83%bc/
END:VEVENT
END:VCALENDAR