BEGIN:VCALENDAR
VERSION:2.0
PRODID:-//神奈川県生活協同組合連合会 - ECPv5.9.1//NONSGML v1.0//EN
CALSCALE:GREGORIAN
METHOD:PUBLISH
X-WR-CALNAME:神奈川県生活協同組合連合会
X-ORIGINAL-URL:https://eplan-e.com/wp-521
X-WR-CALDESC:神奈川県生活協同組合連合会 のイベント
BEGIN:VTIMEZONE
TZID:Asia/Tokyo
BEGIN:STANDARD
TZOFFSETFROM:+0900
TZOFFSETTO:+0900
TZNAME:JST
DTSTART:20230101T000000
END:STANDARD
END:VTIMEZONE
BEGIN:VEVENT
DTSTART;VALUE=DATE:20230728
DTEND;VALUE=DATE:20230729
DTSTAMP:20260423T141325
CREATED:20230806T102459Z
LAST-MODIFIED:20230806T102459Z
UID:12341-1690502400-1690588799@eplan-e.com
SUMMARY:福祉健康委員会「全体説明会」 医療部会(専務会議)
DESCRIPTION:
URL:https://eplan-e.com/wp-521/calendar/%e7%a6%8f%e7%a5%89%e5%81%a5%e5%ba%b7%e5%a7%94%e5%93%a1%e4%bc%9a%e3%80%8c%e5%85%a8%e4%bd%93%e8%aa%ac%e6%98%8e%e4%bc%9a%e3%80%8d-%e5%8c%bb%e7%99%82%e9%83%a8%e4%bc%9a%e5%b0%82%e5%8b%99%e4%bc%9a%e8%ad%b0/
END:VEVENT
END:VCALENDAR