BEGIN:VCALENDAR
VERSION:2.0
PRODID:-//神奈川県生活協同組合連合会 - ECPv5.9.1//NONSGML v1.0//EN
CALSCALE:GREGORIAN
METHOD:PUBLISH
X-WR-CALNAME:神奈川県生活協同組合連合会
X-ORIGINAL-URL:https://eplan-e.com/wp-521
X-WR-CALDESC:神奈川県生活協同組合連合会 のイベント
BEGIN:VTIMEZONE
TZID:Asia/Tokyo
BEGIN:STANDARD
TZOFFSETFROM:+0900
TZOFFSETTO:+0900
TZNAME:JST
DTSTART:20230101T000000
END:STANDARD
END:VTIMEZONE
BEGIN:VEVENT
DTSTART;VALUE=DATE:20230704
DTEND;VALUE=DATE:20230705
DTSTAMP:20260423T141146
CREATED:20230806T101813Z
LAST-MODIFIED:20230806T101837Z
UID:12330-1688428800-1688515199@eplan-e.com
SUMMARY:平和ｽﾀﾃﾞｲﾂｱｰ運営委員会/原爆と人間展運営委員会/平和行進懇談会
DESCRIPTION:
URL:https://eplan-e.com/wp-521/calendar/%e5%b9%b3%e5%92%8c%ef%bd%bd%ef%be%80%ef%be%83%ef%be%9e%ef%bd%b2%ef%be%82%ef%bd%b1%ef%bd%b0%e9%81%8b%e5%96%b6%e5%a7%94%e5%93%a1%e4%bc%9a-%e5%8e%9f%e7%88%86%e3%81%a8%e4%ba%ba%e9%96%93%e5%b1%95%e9%81%8b/
END:VEVENT
END:VCALENDAR