BEGIN:VCALENDAR
VERSION:2.0
PRODID:-//神奈川県生活協同組合連合会 - ECPv5.9.1//NONSGML v1.0//EN
CALSCALE:GREGORIAN
METHOD:PUBLISH
X-WR-CALNAME:神奈川県生活協同組合連合会
X-ORIGINAL-URL:https://eplan-e.com/wp-521
X-WR-CALDESC:神奈川県生活協同組合連合会 のイベント
BEGIN:VTIMEZONE
TZID:Asia/Tokyo
BEGIN:STANDARD
TZOFFSETFROM:+0900
TZOFFSETTO:+0900
TZNAME:JST
DTSTART:20230101T000000
END:STANDARD
END:VTIMEZONE
BEGIN:VEVENT
DTSTART;VALUE=DATE:20230616
DTEND;VALUE=DATE:20230617
DTSTAMP:20260423T155117
CREATED:20220912T045636Z
LAST-MODIFIED:20220912T045636Z
UID:11627-1686873600-1686959999@eplan-e.com
SUMMARY:第11回組合員活動委員会
DESCRIPTION:
URL:https://eplan-e.com/wp-521/calendar/%e7%ac%ac11%e5%9b%9e%e7%b5%84%e5%90%88%e5%93%a1%e6%b4%bb%e5%8b%95%e5%a7%94%e5%93%a1%e4%bc%9a-4/
END:VEVENT
END:VCALENDAR