BEGIN:VCALENDAR
VERSION:2.0
PRODID:-//神奈川県生活協同組合連合会 - ECPv5.9.1//NONSGML v1.0//EN
CALSCALE:GREGORIAN
METHOD:PUBLISH
X-WR-CALNAME:神奈川県生活協同組合連合会
X-ORIGINAL-URL:https://eplan-e.com/wp-521
X-WR-CALDESC:神奈川県生活協同組合連合会 のイベント
BEGIN:VTIMEZONE
TZID:Asia/Tokyo
BEGIN:STANDARD
TZOFFSETFROM:+0900
TZOFFSETTO:+0900
TZNAME:JST
DTSTART:20230101T000000
END:STANDARD
END:VTIMEZONE
BEGIN:VEVENT
DTSTART;VALUE=DATE:20230524
DTEND;VALUE=DATE:20230525
DTSTAMP:20260423T173618
CREATED:20220912T045355Z
LAST-MODIFIED:20220912T045355Z
UID:11626-1684886400-1684972799@eplan-e.com
SUMMARY:第6回福祉事業連絡会
DESCRIPTION:
URL:https://eplan-e.com/wp-521/calendar/%e7%ac%ac6%e5%9b%9e%e7%a6%8f%e7%a5%89%e4%ba%8b%e6%a5%ad%e9%80%a3%e7%b5%a1%e4%bc%9a-2/
END:VEVENT
END:VCALENDAR