BEGIN:VCALENDAR
VERSION:2.0
PRODID:-//神奈川県生活協同組合連合会 - ECPv5.9.1//NONSGML v1.0//EN
CALSCALE:GREGORIAN
METHOD:PUBLISH
X-WR-CALNAME:神奈川県生活協同組合連合会
X-ORIGINAL-URL:https://eplan-e.com/wp-521
X-WR-CALDESC:神奈川県生活協同組合連合会 のイベント
BEGIN:VTIMEZONE
TZID:Asia/Tokyo
BEGIN:STANDARD
TZOFFSETFROM:+0900
TZOFFSETTO:+0900
TZNAME:JST
DTSTART:20230101T000000
END:STANDARD
END:VTIMEZONE
BEGIN:VEVENT
DTSTART;VALUE=DATE:20230518
DTEND;VALUE=DATE:20230519
DTSTAMP:20260423T173524
CREATED:20220912T045129Z
LAST-MODIFIED:20220912T045129Z
UID:11624-1684368000-1684454399@eplan-e.com
SUMMARY:第10回組合員活動委員会
DESCRIPTION:
URL:https://eplan-e.com/wp-521/calendar/%e7%ac%ac10%e5%9b%9e%e7%b5%84%e5%90%88%e5%93%a1%e6%b4%bb%e5%8b%95%e5%a7%94%e5%93%a1%e4%bc%9a-4/
END:VEVENT
BEGIN:VEVENT
DTSTART;VALUE=DATE:20230518
DTEND;VALUE=DATE:20230519
DTSTAMP:20260423T173524
CREATED:20220912T045325Z
LAST-MODIFIED:20220912T045325Z
UID:11625-1684368000-1684454399@eplan-e.com
SUMMARY:医療部会(第6回組織責任者会議・第6回エリア大学習会実行委員会)
DESCRIPTION:
URL:https://eplan-e.com/wp-521/calendar/%e5%8c%bb%e7%99%82%e9%83%a8%e4%bc%9a%e7%ac%ac6%e5%9b%9e%e7%b5%84%e7%b9%94%e8%b2%ac%e4%bb%bb%e8%80%85%e4%bc%9a%e8%ad%b0%e3%83%bb%e7%ac%ac6%e5%9b%9e%e3%82%a8%e3%83%aa%e3%82%a2%e5%a4%a7%e5%ad%a6/
END:VEVENT
END:VCALENDAR