BEGIN:VCALENDAR
VERSION:2.0
PRODID:-//神奈川県生活協同組合連合会 - ECPv5.9.1//NONSGML v1.0//EN
CALSCALE:GREGORIAN
METHOD:PUBLISH
X-WR-CALNAME:神奈川県生活協同組合連合会
X-ORIGINAL-URL:https://eplan-e.com/wp-521
X-WR-CALDESC:神奈川県生活協同組合連合会 のイベント
BEGIN:VTIMEZONE
TZID:Asia/Tokyo
BEGIN:STANDARD
TZOFFSETFROM:+0900
TZOFFSETTO:+0900
TZNAME:JST
DTSTART:20230101T000000
END:STANDARD
END:VTIMEZONE
BEGIN:VEVENT
DTSTART;VALUE=DATE:20230516
DTEND;VALUE=DATE:20230517
DTSTAMP:20260423T173619
CREATED:20220912T045044Z
LAST-MODIFIED:20230508T091929Z
UID:11623-1684195200-1684281599@eplan-e.com
SUMMARY:第7回理事会
DESCRIPTION:
URL:https://eplan-e.com/wp-521/calendar/%e7%ac%ac7%e5%9b%9e%e7%90%86%e4%ba%8b%e4%bc%9a-5/
END:VEVENT
END:VCALENDAR