BEGIN:VCALENDAR
VERSION:2.0
PRODID:-//神奈川県生活協同組合連合会 - ECPv5.9.1//NONSGML v1.0//EN
CALSCALE:GREGORIAN
METHOD:PUBLISH
X-WR-CALNAME:神奈川県生活協同組合連合会
X-ORIGINAL-URL:https://eplan-e.com/wp-521
X-WR-CALDESC:神奈川県生活協同組合連合会 のイベント
BEGIN:VTIMEZONE
TZID:Asia/Tokyo
BEGIN:STANDARD
TZOFFSETFROM:+0900
TZOFFSETTO:+0900
TZNAME:JST
DTSTART:20230101T000000
END:STANDARD
END:VTIMEZONE
BEGIN:VEVENT
DTSTART;VALUE=DATE:20230418
DTEND;VALUE=DATE:20230419
DTSTAMP:20260423T185619
CREATED:20220912T044610Z
LAST-MODIFIED:20220912T044610Z
UID:11617-1681776000-1681862399@eplan-e.com
SUMMARY:第2回役員選任委員会
DESCRIPTION:
URL:https://eplan-e.com/wp-521/calendar/%e7%ac%ac2%e5%9b%9e%e5%bd%b9%e5%93%a1%e9%81%b8%e4%bb%bb%e5%a7%94%e5%93%a1%e4%bc%9a/
END:VEVENT
BEGIN:VEVENT
DTSTART;VALUE=DATE:20230418
DTEND;VALUE=DATE:20230419
DTSTAMP:20260423T185619
CREATED:20220912T044632Z
LAST-MODIFIED:20220912T044632Z
UID:11618-1681776000-1681862399@eplan-e.com
SUMMARY:第6回常務理事会
DESCRIPTION:
URL:https://eplan-e.com/wp-521/calendar/%e7%ac%ac6%e5%9b%9e%e5%b8%b8%e5%8b%99%e7%90%86%e4%ba%8b%e4%bc%9a-4/
END:VEVENT
END:VCALENDAR