BEGIN:VCALENDAR
VERSION:2.0
PRODID:-//神奈川県生活協同組合連合会 - ECPv5.9.1//NONSGML v1.0//EN
CALSCALE:GREGORIAN
METHOD:PUBLISH
X-WR-CALNAME:神奈川県生活協同組合連合会
X-ORIGINAL-URL:https://eplan-e.com/wp-521
X-WR-CALDESC:神奈川県生活協同組合連合会 のイベント
BEGIN:VTIMEZONE
TZID:Asia/Tokyo
BEGIN:STANDARD
TZOFFSETFROM:+0900
TZOFFSETTO:+0900
TZNAME:JST
DTSTART:20230101T000000
END:STANDARD
END:VTIMEZONE
BEGIN:VEVENT
DTSTART;VALUE=DATE:20230301
DTEND;VALUE=DATE:20230302
DTSTAMP:20260423T203059
CREATED:20220912T043933Z
LAST-MODIFIED:20220912T043933Z
UID:11608-1677628800-1677715199@eplan-e.com
SUMMARY:ビキニデー
DESCRIPTION:
URL:https://eplan-e.com/wp-521/calendar/%e3%83%93%e3%82%ad%e3%83%8b%e3%83%87%e3%83%bc-2/
END:VEVENT
END:VCALENDAR