BEGIN:VCALENDAR
VERSION:2.0
PRODID:-//神奈川県生活協同組合連合会 - ECPv5.9.1//NONSGML v1.0//EN
CALSCALE:GREGORIAN
METHOD:PUBLISH
X-WR-CALNAME:神奈川県生活協同組合連合会
X-ORIGINAL-URL:https://eplan-e.com/wp-521
X-WR-CALDESC:神奈川県生活協同組合連合会 のイベント
BEGIN:VTIMEZONE
TZID:Asia/Tokyo
BEGIN:STANDARD
TZOFFSETFROM:+0900
TZOFFSETTO:+0900
TZNAME:JST
DTSTART:20230101T000000
END:STANDARD
END:VTIMEZONE
BEGIN:VEVENT
DTSTART;VALUE=DATE:20230215
DTEND;VALUE=DATE:20230216
DTSTAMP:20260423T222945
CREATED:20220912T042940Z
LAST-MODIFIED:20220912T042940Z
UID:11603-1676419200-1676505599@eplan-e.com
SUMMARY:第3回大規模災害対策委員会
DESCRIPTION:
URL:https://eplan-e.com/wp-521/calendar/%e7%ac%ac3%e5%9b%9e%e5%a4%a7%e8%a6%8f%e6%a8%a1%e7%81%bd%e5%ae%b3%e5%af%be%e7%ad%96%e5%a7%94%e5%93%a1%e4%bc%9a-3/
END:VEVENT
END:VCALENDAR