BEGIN:VCALENDAR
VERSION:2.0
PRODID:-//神奈川県生活協同組合連合会 - ECPv5.9.1//NONSGML v1.0//EN
CALSCALE:GREGORIAN
METHOD:PUBLISH
X-WR-CALNAME:神奈川県生活協同組合連合会
X-ORIGINAL-URL:https://eplan-e.com/wp-521
X-WR-CALDESC:神奈川県生活協同組合連合会 のイベント
BEGIN:VTIMEZONE
TZID:Asia/Tokyo
BEGIN:STANDARD
TZOFFSETFROM:+0900
TZOFFSETTO:+0900
TZNAME:JST
DTSTART:20230101T000000
END:STANDARD
END:VTIMEZONE
BEGIN:VEVENT
DTSTART;VALUE=DATE:20230107
DTEND;VALUE=DATE:20230108
DTSTAMP:20260424T000132
CREATED:20220912T040339Z
LAST-MODIFIED:20220912T040339Z
UID:11593-1673049600-1673135999@eplan-e.com
SUMMARY:賀詞交歓会
DESCRIPTION:
URL:https://eplan-e.com/wp-521/calendar/%e8%b3%80%e8%a9%9e%e4%ba%a4%e6%ad%93%e4%bc%9a-2/
END:VEVENT
END:VCALENDAR