BEGIN:VCALENDAR
VERSION:2.0
PRODID:-//神奈川県生活協同組合連合会 - ECPv5.9.1//NONSGML v1.0//EN
CALSCALE:GREGORIAN
METHOD:PUBLISH
X-WR-CALNAME:神奈川県生活協同組合連合会
X-ORIGINAL-URL:https://eplan-e.com/wp-521
X-WR-CALDESC:神奈川県生活協同組合連合会 のイベント
BEGIN:VTIMEZONE
TZID:Asia/Tokyo
BEGIN:STANDARD
TZOFFSETFROM:+0900
TZOFFSETTO:+0900
TZNAME:JST
DTSTART:20220101T000000
END:STANDARD
END:VTIMEZONE
BEGIN:VEVENT
DTSTART;VALUE=DATE:20220712
DTEND;VALUE=DATE:20220713
DTSTAMP:20260424T101138
CREATED:20220912T004931Z
LAST-MODIFIED:20220912T025537Z
UID:11552-1657584000-1657670399@eplan-e.com
SUMMARY:ヒロシマ・ナガサキ平和スタディツアー運営委員会　
DESCRIPTION:
URL:https://eplan-e.com/wp-521/calendar/%e3%83%92%e3%83%ad%e3%83%8a%e3%82%ac%e3%83%bb%e5%8e%9f%e7%88%86%e3%81%a8%e4%ba%ba%e9%96%93%e5%b1%95%e5%a7%94%e5%93%a1%e4%bc%9a/
END:VEVENT
BEGIN:VEVENT
DTSTART;VALUE=DATE:20220712
DTEND;VALUE=DATE:20220713
DTSTAMP:20260424T101138
CREATED:20220912T025631Z
LAST-MODIFIED:20220912T025637Z
UID:11580-1657584000-1657670399@eplan-e.com
SUMMARY:原爆と人間展 運営委員会
DESCRIPTION:
URL:https://eplan-e.com/wp-521/calendar/%e5%8e%9f%e7%88%86%e3%81%a8%e4%ba%ba%e9%96%93%e5%b1%95-%e9%81%8b%e5%96%b6%e5%a7%94%e5%93%a1%e4%bc%9a/
END:VEVENT
END:VCALENDAR