BEGIN:VCALENDAR
VERSION:2.0
PRODID:-//神奈川県生活協同組合連合会 - ECPv5.9.1//NONSGML v1.0//EN
CALSCALE:GREGORIAN
METHOD:PUBLISH
X-WR-CALNAME:神奈川県生活協同組合連合会
X-ORIGINAL-URL:https://eplan-e.com/wp-521
X-WR-CALDESC:神奈川県生活協同組合連合会 のイベント
BEGIN:VTIMEZONE
TZID:Asia/Tokyo
BEGIN:STANDARD
TZOFFSETFROM:+0900
TZOFFSETTO:+0900
TZNAME:JST
DTSTART:20220101T000000
END:STANDARD
END:VTIMEZONE
BEGIN:VEVENT
DTSTART;TZID=Asia/Tokyo:20220628T100000
DTEND;TZID=Asia/Tokyo:20220628T120000
DTSTAMP:20260424T101139
CREATED:20210312T063239Z
LAST-MODIFIED:20210325T075525Z
UID:9903-1656410400-1656417600@eplan-e.com
SUMMARY:第71回総会
DESCRIPTION:
URL:https://eplan-e.com/wp-521/calendar/%e7%ac%ac71%e5%9b%9e%e7%b7%8f%e4%bc%9a/
LOCATION:ワークピア横浜　くじゃく
END:VEVENT
END:VCALENDAR