BEGIN:VCALENDAR
VERSION:2.0
PRODID:-//神奈川県生活協同組合連合会 - ECPv5.9.1//NONSGML v1.0//EN
CALSCALE:GREGORIAN
METHOD:PUBLISH
X-WR-CALNAME:神奈川県生活協同組合連合会
X-ORIGINAL-URL:https://eplan-e.com/wp-521
X-WR-CALDESC:神奈川県生活協同組合連合会 のイベント
BEGIN:VTIMEZONE
TZID:Asia/Tokyo
BEGIN:STANDARD
TZOFFSETFROM:+0900
TZOFFSETTO:+0900
TZNAME:JST
DTSTART:20220101T000000
END:STANDARD
END:VTIMEZONE
BEGIN:VEVENT
DTSTART;TZID=Asia/Tokyo:20220419T140000
DTEND;TZID=Asia/Tokyo:20220419T160000
DTSTAMP:20260424T151516
CREATED:20210320T044556Z
LAST-MODIFIED:20210320T044556Z
UID:9953-1650376800-1650384000@eplan-e.com
SUMMARY:第６回常務理事会
DESCRIPTION:
URL:https://eplan-e.com/wp-521/calendar/%e7%ac%ac%ef%bc%96%e5%9b%9e%e5%b8%b8%e5%8b%99%e7%90%86%e4%ba%8b%e4%bc%9a/
LOCATION:神奈川県生協連会議室
END:VEVENT
END:VCALENDAR