BEGIN:VCALENDAR
VERSION:2.0
PRODID:-//神奈川県生活協同組合連合会 - ECPv5.9.1//NONSGML v1.0//EN
CALSCALE:GREGORIAN
METHOD:PUBLISH
X-WR-CALNAME:神奈川県生活協同組合連合会
X-ORIGINAL-URL:https://eplan-e.com/wp-521
X-WR-CALDESC:神奈川県生活協同組合連合会 のイベント
BEGIN:VTIMEZONE
TZID:Asia/Tokyo
BEGIN:STANDARD
TZOFFSETFROM:+0900
TZOFFSETTO:+0900
TZNAME:JST
DTSTART:20220101T000000
END:STANDARD
END:VTIMEZONE
BEGIN:VEVENT
DTSTART;TZID=Asia/Tokyo:20220406T100000
DTEND;TZID=Asia/Tokyo:20220406T120000
DTSTAMP:20260424T152656
CREATED:20210325T083254Z
LAST-MODIFIED:20210325T083254Z
UID:10128-1649239200-1649246400@eplan-e.com
SUMMARY:第5回 大規模災害対策 世話人会
DESCRIPTION:
URL:https://eplan-e.com/wp-521/calendar/%e7%ac%ac5%e5%9b%9e-%e5%a4%a7%e8%a6%8f%e6%a8%a1%e7%81%bd%e5%ae%b3%e5%af%be%e7%ad%96-%e4%b8%96%e8%a9%b1%e4%ba%ba%e4%bc%9a/
END:VEVENT
END:VCALENDAR