BEGIN:VCALENDAR
VERSION:2.0
PRODID:-//神奈川県生活協同組合連合会 - ECPv5.9.1//NONSGML v1.0//EN
CALSCALE:GREGORIAN
METHOD:PUBLISH
X-WR-CALNAME:神奈川県生活協同組合連合会
X-ORIGINAL-URL:https://eplan-e.com/wp-521
X-WR-CALDESC:神奈川県生活協同組合連合会 のイベント
BEGIN:VTIMEZONE
TZID:Asia/Tokyo
BEGIN:STANDARD
TZOFFSETFROM:+0900
TZOFFSETTO:+0900
TZNAME:JST
DTSTART:20220101T000000
END:STANDARD
END:VTIMEZONE
BEGIN:VEVENT
DTSTART;TZID=Asia/Tokyo:20220318T100000
DTEND;TZID=Asia/Tokyo:20220318T120000
DTSTAMP:20260424T184604
CREATED:20210322T072313Z
LAST-MODIFIED:20210322T072313Z
UID:10026-1647597600-1647604800@eplan-e.com
SUMMARY:第8回 組合員活動委員会
DESCRIPTION:
URL:https://eplan-e.com/wp-521/calendar/%e7%ac%ac8%e5%9b%9e-%e7%b5%84%e5%90%88%e5%93%a1%e6%b4%bb%e5%8b%95%e5%a7%94%e5%93%a1%e4%bc%9a/
LOCATION:神奈川県生協連会議室
END:VEVENT
END:VCALENDAR