BEGIN:VCALENDAR
VERSION:2.0
PRODID:-//神奈川県生活協同組合連合会 - ECPv5.9.1//NONSGML v1.0//EN
CALSCALE:GREGORIAN
METHOD:PUBLISH
X-WR-CALNAME:神奈川県生活協同組合連合会
X-ORIGINAL-URL:https://eplan-e.com/wp-521
X-WR-CALDESC:神奈川県生活協同組合連合会 のイベント
BEGIN:VTIMEZONE
TZID:Asia/Tokyo
BEGIN:STANDARD
TZOFFSETFROM:+0900
TZOFFSETTO:+0900
TZNAME:JST
DTSTART:20210101T000000
END:STANDARD
END:VTIMEZONE
BEGIN:VEVENT
DTSTART;TZID=Asia/Tokyo:20211224T150000
DTEND;TZID=Asia/Tokyo:20211224T170000
DTSTAMP:20260424T221849
CREATED:20210320T054952Z
LAST-MODIFIED:20210320T054952Z
UID:9959-1640358000-1640365200@eplan-e.com
SUMMARY:医療部会（第3回専務会議）
DESCRIPTION:
URL:https://eplan-e.com/wp-521/calendar/%e5%8c%bb%e7%99%82%e9%83%a8%e4%bc%9a%ef%bc%88%e7%ac%ac3%e5%9b%9e%e5%b0%82%e5%8b%99%e4%bc%9a%e8%ad%b0%ef%bc%89-3/
END:VEVENT
END:VCALENDAR