BEGIN:VCALENDAR
VERSION:2.0
PRODID:-//神奈川県生活協同組合連合会 - ECPv5.9.1//NONSGML v1.0//EN
CALSCALE:GREGORIAN
METHOD:PUBLISH
X-WR-CALNAME:神奈川県生活協同組合連合会
X-ORIGINAL-URL:https://eplan-e.com/wp-521
X-WR-CALDESC:神奈川県生活協同組合連合会 のイベント
BEGIN:VTIMEZONE
TZID:Asia/Tokyo
BEGIN:STANDARD
TZOFFSETFROM:+0900
TZOFFSETTO:+0900
TZNAME:JST
DTSTART:20210101T000000
END:STANDARD
END:VTIMEZONE
BEGIN:VEVENT
DTSTART;TZID=Asia/Tokyo:20211119T100000
DTEND;TZID=Asia/Tokyo:20211119T120000
DTSTAMP:20260425T000801
CREATED:20210322T071826Z
LAST-MODIFIED:20210322T071826Z
UID:10017-1637316000-1637323200@eplan-e.com
SUMMARY:第4回 組合員活動委員会
DESCRIPTION:
URL:https://eplan-e.com/wp-521/calendar/%e7%ac%ac4%e5%9b%9e-%e7%b5%84%e5%90%88%e5%93%a1%e6%b4%bb%e5%8b%95%e5%a7%94%e5%93%a1%e4%bc%9a/
LOCATION:神奈川県生協連会議室
END:VEVENT
BEGIN:VEVENT
DTSTART;TZID=Asia/Tokyo:20211119T130000
DTEND;TZID=Asia/Tokyo:20211119T150000
DTSTAMP:20260425T000801
CREATED:20210811T111043Z
LAST-MODIFIED:20210811T111247Z
UID:10740-1637326800-1637334000@eplan-e.com
SUMMARY:生協大会実行委員会
DESCRIPTION:
URL:https://eplan-e.com/wp-521/calendar/%e7%94%9f%e5%8d%94%e5%a4%a7%e4%bc%9a%e5%ae%9f%e8%a1%8c%e5%a7%94%e5%93%a1%e4%bc%9a-11/
END:VEVENT
END:VCALENDAR