BEGIN:VCALENDAR
VERSION:2.0
PRODID:-//神奈川県生活協同組合連合会 - ECPv5.9.1//NONSGML v1.0//EN
CALSCALE:GREGORIAN
METHOD:PUBLISH
X-WR-CALNAME:神奈川県生活協同組合連合会
X-ORIGINAL-URL:https://eplan-e.com/wp-521
X-WR-CALDESC:神奈川県生活協同組合連合会 のイベント
BEGIN:VTIMEZONE
TZID:Asia/Tokyo
BEGIN:STANDARD
TZOFFSETFROM:+0900
TZOFFSETTO:+0900
TZNAME:JST
DTSTART:20210101T000000
END:STANDARD
END:VTIMEZONE
BEGIN:VEVENT
DTSTART;TZID=Asia/Tokyo:20211118T140000
DTEND;TZID=Asia/Tokyo:20211118T160000
DTSTAMP:20260425T000838
CREATED:20210320T055748Z
LAST-MODIFIED:20210320T055748Z
UID:9969-1637244000-1637251200@eplan-e.com
SUMMARY:医療部会（第3回組織責任者会議）
DESCRIPTION:
URL:https://eplan-e.com/wp-521/calendar/%e5%8c%bb%e7%99%82%e9%83%a8%e4%bc%9a%ef%bc%88%e7%ac%ac3%e5%9b%9e%e7%b5%84%e7%b9%94%e8%b2%ac%e4%bb%bb%e8%80%85%e4%bc%9a%e8%ad%b0%ef%bc%89-2/
LOCATION:県生協連会議室または神奈川民医連会議室
END:VEVENT
BEGIN:VEVENT
DTSTART;TZID=Asia/Tokyo:20211118T151500
DTEND;TZID=Asia/Tokyo:20211118T171500
DTSTAMP:20260425T000838
CREATED:20210320T061104Z
LAST-MODIFIED:20210320T061104Z
UID:9977-1637248500-1637255700@eplan-e.com
SUMMARY:エリア大学習会 第1回実行委員会
DESCRIPTION:
URL:https://eplan-e.com/wp-521/calendar/%e3%82%a8%e3%83%aa%e3%82%a2%e5%a4%a7%e5%ad%a6%e7%bf%92%e4%bc%9a%e5%ae%9f%e8%a1%8c%e5%a7%94%e5%93%a1%e4%bc%9a/
LOCATION:県生協連会議室または神奈川民医連会議室
END:VEVENT
END:VCALENDAR