BEGIN:VCALENDAR
VERSION:2.0
PRODID:-//神奈川県生活協同組合連合会 - ECPv5.9.1//NONSGML v1.0//EN
CALSCALE:GREGORIAN
METHOD:PUBLISH
X-WR-CALNAME:神奈川県生活協同組合連合会
X-ORIGINAL-URL:https://eplan-e.com/wp-521
X-WR-CALDESC:神奈川県生活協同組合連合会 のイベント
BEGIN:VTIMEZONE
TZID:Asia/Tokyo
BEGIN:STANDARD
TZOFFSETFROM:+0900
TZOFFSETTO:+0900
TZNAME:JST
DTSTART:20210101T000000
END:STANDARD
END:VTIMEZONE
BEGIN:VEVENT
DTSTART;TZID=Asia/Tokyo:20211014T100000
DTEND;TZID=Asia/Tokyo:20211014T120000
DTSTAMP:20260425T015344
CREATED:20210312T064318Z
LAST-MODIFIED:20210325T075703Z
UID:9908-1634205600-1634212800@eplan-e.com
SUMMARY:2021年 神奈川県生協大会
DESCRIPTION:
URL:https://eplan-e.com/wp-521/calendar/2021%e5%b9%b4%e3%80%80%e7%a5%9e%e5%a5%88%e5%b7%9d%e7%9c%8c%e7%94%9f%e5%8d%94%e5%a4%a7%e4%bc%9a/
LOCATION:ワークプア横浜　おしどり・くじゃく
END:VEVENT
BEGIN:VEVENT
DTSTART;TZID=Asia/Tokyo:20211014T100000
DTEND;TZID=Asia/Tokyo:20211014T120000
DTSTAMP:20260425T015344
CREATED:20210329T025409Z
LAST-MODIFIED:20210329T025409Z
UID:10163-1634205600-1634212800@eplan-e.com
SUMMARY:消費者のつどい実行委員会
DESCRIPTION:
URL:https://eplan-e.com/wp-521/calendar/%e6%b6%88%e8%b2%bb%e8%80%85%e3%81%ae%e3%81%a4%e3%81%a9%e3%81%84%e5%ae%9f%e8%a1%8c%e5%a7%94%e5%93%a1%e4%bc%9a-21/
LOCATION:神奈川県生協連会議室
END:VEVENT
BEGIN:VEVENT
DTSTART;TZID=Asia/Tokyo:20211014T130000
DTEND;TZID=Asia/Tokyo:20211014T160000
DTSTAMP:20260425T015344
CREATED:20210329T024352Z
LAST-MODIFIED:20210329T024352Z
UID:10149-1634216400-1634227200@eplan-e.com
SUMMARY:消団連 定例幹事会
DESCRIPTION:
URL:https://eplan-e.com/wp-521/calendar/%e6%b6%88%e5%9b%a3%e9%80%a3-%e5%ae%9a%e4%be%8b%e5%b9%b9%e4%ba%8b%e4%bc%9a-15/
END:VEVENT
END:VCALENDAR