BEGIN:VCALENDAR
VERSION:2.0
PRODID:-//神奈川県生活協同組合連合会 - ECPv5.9.1//NONSGML v1.0//EN
CALSCALE:GREGORIAN
METHOD:PUBLISH
X-WR-CALNAME:神奈川県生活協同組合連合会
X-ORIGINAL-URL:https://eplan-e.com/wp-521
X-WR-CALDESC:神奈川県生活協同組合連合会 のイベント
BEGIN:VTIMEZONE
TZID:Asia/Tokyo
BEGIN:STANDARD
TZOFFSETFROM:+0900
TZOFFSETTO:+0900
TZNAME:JST
DTSTART:20210101T000000
END:STANDARD
END:VTIMEZONE
BEGIN:VEVENT
DTSTART;TZID=Asia/Tokyo:20210720T130000
DTEND;TZID=Asia/Tokyo:20210720T140000
DTSTAMP:20260425T065946
CREATED:20210320T043916Z
LAST-MODIFIED:20210320T043916Z
UID:9943-1626786000-1626789600@eplan-e.com
SUMMARY:第1回常務理事会
DESCRIPTION:
URL:https://eplan-e.com/wp-521/calendar/%e7%ac%ac1%e5%9b%9e%e5%b8%b8%e5%8b%99%e7%90%86%e4%ba%8b%e4%bc%9a-3/
LOCATION:神奈川県生協連会議室
END:VEVENT
BEGIN:VEVENT
DTSTART;TZID=Asia/Tokyo:20210720T140000
DTEND;TZID=Asia/Tokyo:20210720T160000
DTSTAMP:20260425T065946
CREATED:20210312T061948Z
LAST-MODIFIED:20210312T061948Z
UID:9884-1626789600-1626796800@eplan-e.com
SUMMARY:第2回理事会
DESCRIPTION:
URL:https://eplan-e.com/wp-521/calendar/%e7%ac%ac2%e5%9b%9e%e7%90%86%e4%ba%8b%e4%bc%9a-3/
LOCATION:オルタナティブ館301号室\, 神奈川県横浜市港北区新横浜２丁目８−４
END:VEVENT
END:VCALENDAR