BEGIN:VCALENDAR
VERSION:2.0
PRODID:-//神奈川県生活協同組合連合会 - ECPv5.9.1//NONSGML v1.0//EN
CALSCALE:GREGORIAN
METHOD:PUBLISH
X-WR-CALNAME:神奈川県生活協同組合連合会
X-ORIGINAL-URL:https://eplan-e.com/wp-521
X-WR-CALDESC:神奈川県生活協同組合連合会 のイベント
BEGIN:VTIMEZONE
TZID:Asia/Tokyo
BEGIN:STANDARD
TZOFFSETFROM:+0900
TZOFFSETTO:+0900
TZNAME:JST
DTSTART:20210101T000000
END:STANDARD
END:VTIMEZONE
BEGIN:VEVENT
DTSTART;VALUE=DATE:20210622
DTEND;VALUE=DATE:20210623
DTSTAMP:20260425T085146
CREATED:20200503T043138Z
LAST-MODIFIED:20200503T043138Z
UID:8443-1624320000-1624406399@eplan-e.com
SUMMARY:第70回総会
DESCRIPTION:
URL:https://eplan-e.com/wp-521/calendar/%e7%ac%ac70%e5%9b%9e%e7%b7%8f%e4%bc%9a/
LOCATION:ワークピア横浜\, 横浜市中区山下町24-1\, 神奈川県
END:VEVENT
BEGIN:VEVENT
DTSTART;TZID=Asia/Tokyo:20210622T140000
DTEND;TZID=Asia/Tokyo:20210622T180000
DTSTAMP:20260425T085146
CREATED:20210312T061842Z
LAST-MODIFIED:20210312T061842Z
UID:9882-1624370400-1624384800@eplan-e.com
SUMMARY:第1回理事会
DESCRIPTION:
URL:https://eplan-e.com/wp-521/calendar/%e7%ac%ac1%e5%9b%9e%e7%90%86%e4%ba%8b%e4%bc%9a-2/
LOCATION:オルタナティブ館301号室\, 神奈川県横浜市港北区新横浜２丁目８−４
END:VEVENT
END:VCALENDAR