BEGIN:VCALENDAR
VERSION:2.0
PRODID:-//神奈川県生活協同組合連合会 - ECPv5.9.1//NONSGML v1.0//EN
CALSCALE:GREGORIAN
METHOD:PUBLISH
X-WR-CALNAME:神奈川県生活協同組合連合会
X-ORIGINAL-URL:https://eplan-e.com/wp-521
X-WR-CALDESC:神奈川県生活協同組合連合会 のイベント
BEGIN:VTIMEZONE
TZID:Asia/Tokyo
BEGIN:STANDARD
TZOFFSETFROM:+0900
TZOFFSETTO:+0900
TZNAME:JST
DTSTART:20210101T000000
END:STANDARD
END:VTIMEZONE
BEGIN:VEVENT
DTSTART;TZID=Asia/Tokyo:20210526T133000
DTEND;TZID=Asia/Tokyo:20210526T153000
DTSTAMP:20260425T105506
CREATED:20210325T080424Z
LAST-MODIFIED:20210614T073245Z
UID:10092-1622035800-1622043000@eplan-e.com
SUMMARY:2021 神奈川エリア大学習会
DESCRIPTION:
URL:https://eplan-e.com/wp-521/calendar/2022-%e7%a5%9e%e5%a5%88%e5%b7%9d%e3%82%a8%e3%83%aa%e3%82%a2%e5%a4%a7%e5%ad%a6%e7%bf%92%e4%bc%9a/
LOCATION:各医療生協・福祉クラブ生協のサテライト会場 によるオンライン学習会　※詳細につきましては各生協まで
END:VEVENT
END:VCALENDAR