BEGIN:VCALENDAR
VERSION:2.0
PRODID:-//神奈川県生活協同組合連合会 - ECPv5.9.1//NONSGML v1.0//EN
CALSCALE:GREGORIAN
METHOD:PUBLISH
X-WR-CALNAME:神奈川県生活協同組合連合会
X-ORIGINAL-URL:https://eplan-e.com/wp-521
X-WR-CALDESC:神奈川県生活協同組合連合会 のイベント
BEGIN:VTIMEZONE
TZID:Asia/Tokyo
BEGIN:STANDARD
TZOFFSETFROM:+0900
TZOFFSETTO:+0900
TZNAME:JST
DTSTART:20200101T000000
END:STANDARD
END:VTIMEZONE
BEGIN:VEVENT
DTSTART;TZID=Asia/Tokyo:20201125T100000
DTEND;TZID=Asia/Tokyo:20201125T120000
DTSTAMP:20260425T213656
CREATED:20200506T131905Z
LAST-MODIFIED:20200506T131905Z
UID:8487-1606298400-1606305600@eplan-e.com
SUMMARY:大規模災害対策委員会世話人会
DESCRIPTION:
URL:https://eplan-e.com/wp-521/calendar/%e5%a4%a7%e8%a6%8f%e6%a8%a1%e7%81%bd%e5%ae%b3%e5%af%be%e7%ad%96%e5%a7%94%e5%93%a1%e4%bc%9a%e4%b8%96%e8%a9%b1%e4%ba%ba%e4%bc%9a-10/
END:VEVENT
END:VCALENDAR