BEGIN:VCALENDAR
VERSION:2.0
PRODID:-//神奈川県生活協同組合連合会 - ECPv5.9.1//NONSGML v1.0//EN
CALSCALE:GREGORIAN
METHOD:PUBLISH
X-WR-CALNAME:神奈川県生活協同組合連合会
X-ORIGINAL-URL:https://eplan-e.com/wp-521
X-WR-CALDESC:神奈川県生活協同組合連合会 のイベント
BEGIN:VTIMEZONE
TZID:Asia/Tokyo
BEGIN:STANDARD
TZOFFSETFROM:+0900
TZOFFSETTO:+0900
TZNAME:JST
DTSTART:20200101T000000
END:STANDARD
END:VTIMEZONE
BEGIN:VEVENT
DTSTART;TZID=Asia/Tokyo:20201112T100000
DTEND;TZID=Asia/Tokyo:20201112T120000
DTSTAMP:20260425T213539
CREATED:20200506T134240Z
LAST-MODIFIED:20200506T134240Z
UID:8506-1605175200-1605182400@eplan-e.com
SUMMARY:消費者のつどい実行委員会
DESCRIPTION:
URL:https://eplan-e.com/wp-521/calendar/%e6%b6%88%e8%b2%bb%e8%80%85%e3%81%ae%e3%81%a4%e3%81%a9%e3%81%84%e5%ae%9f%e8%a1%8c%e5%a7%94%e5%93%a1%e4%bc%9a-12/
END:VEVENT
BEGIN:VEVENT
DTSTART;TZID=Asia/Tokyo:20201112T130000
DTEND;TZID=Asia/Tokyo:20201112T160000
DTSTAMP:20260425T213539
CREATED:20200506T133249Z
LAST-MODIFIED:20200506T133249Z
UID:8496-1605186000-1605196800@eplan-e.com
SUMMARY:消団連 定例幹事会
DESCRIPTION:
URL:https://eplan-e.com/wp-521/calendar/%e6%b6%88%e5%9b%a3%e9%80%a3-%e5%ae%9a%e4%be%8b%e5%b9%b9%e4%ba%8b%e4%bc%9a-4/
END:VEVENT
BEGIN:VEVENT
DTSTART;TZID=Asia/Tokyo:20201112T140000
DTEND;TZID=Asia/Tokyo:20201112T160000
DTSTAMP:20260425T213539
CREATED:20200504T032946Z
LAST-MODIFIED:20200521T020827Z
UID:8461-1605189600-1605196800@eplan-e.com
SUMMARY:医療部会（第3回組織責任者会議）
DESCRIPTION:
URL:https://eplan-e.com/wp-521/calendar/%e5%8c%bb%e7%99%82%e9%83%a8%e4%bc%9a%ef%bc%88%e7%ac%ac3%e5%9b%9e%e7%b5%84%e7%b9%94%e8%b2%ac%e4%bb%bb%e8%80%85%e4%bc%9a%e8%ad%b0%ef%bc%89/
LOCATION:県生協連会議室または神奈川民医連会議室
END:VEVENT
END:VCALENDAR