BEGIN:VCALENDAR
VERSION:2.0
PRODID:-//神奈川県生活協同組合連合会 - ECPv5.9.1//NONSGML v1.0//EN
CALSCALE:GREGORIAN
METHOD:PUBLISH
X-WR-CALNAME:神奈川県生活協同組合連合会
X-ORIGINAL-URL:https://eplan-e.com/wp-521
X-WR-CALDESC:神奈川県生活協同組合連合会 のイベント
BEGIN:VTIMEZONE
TZID:Asia/Tokyo
BEGIN:STANDARD
TZOFFSETFROM:+0900
TZOFFSETTO:+0900
TZNAME:JST
DTSTART:20200101T000000
END:STANDARD
END:VTIMEZONE
BEGIN:VEVENT
DTSTART;TZID=Asia/Tokyo:20200925T150000
DTEND;TZID=Asia/Tokyo:20200925T170000
DTSTAMP:20260426T010736
CREATED:20200504T032044Z
LAST-MODIFIED:20200521T020208Z
UID:8454-1601046000-1601053200@eplan-e.com
SUMMARY:医療部会（第2回専務会議）
DESCRIPTION:
URL:https://eplan-e.com/wp-521/calendar/%e5%8c%bb%e7%99%82%e9%83%a8%e4%bc%9a%ef%bc%88%e7%ac%ac2%e5%9b%9e%e5%b0%82%e5%8b%99%e4%bc%9a%e8%ad%b0%ef%bc%89/
LOCATION:県生協連会議室または神奈川民医連会議室
END:VEVENT
END:VCALENDAR