BEGIN:VCALENDAR
VERSION:2.0
PRODID:-//神奈川県生活協同組合連合会 - ECPv5.9.1//NONSGML v1.0//EN
CALSCALE:GREGORIAN
METHOD:PUBLISH
X-WR-CALNAME:神奈川県生活協同組合連合会
X-ORIGINAL-URL:https://eplan-e.com/wp-521
X-WR-CALDESC:神奈川県生活協同組合連合会 のイベント
BEGIN:VTIMEZONE
TZID:Asia/Tokyo
BEGIN:STANDARD
TZOFFSETFROM:+0900
TZOFFSETTO:+0900
TZNAME:JST
DTSTART:20200101T000000
END:STANDARD
END:VTIMEZONE
BEGIN:VEVENT
DTSTART;VALUE=DATE:20200807
DTEND;VALUE=DATE:20200810
DTSTAMP:20260426T025742
CREATED:20200506T132450Z
LAST-MODIFIED:20200506T132450Z
UID:8491-1596758400-1597017599@eplan-e.com
SUMMARY:ナガサキ平和スタディツアー
DESCRIPTION:
URL:https://eplan-e.com/wp-521/calendar/%e3%83%8a%e3%82%ac%e3%82%b5%e3%82%ad%e5%b9%b3%e5%92%8c%e3%82%b9%e3%82%bf%e3%83%87%e3%82%a3%e3%83%84%e3%82%a2%e3%83%bc/
END:VEVENT
END:VCALENDAR