BEGIN:VCALENDAR
VERSION:2.0
PRODID:-//神奈川県生活協同組合連合会 - ECPv5.9.1//NONSGML v1.0//EN
CALSCALE:GREGORIAN
METHOD:PUBLISH
X-WR-CALNAME:神奈川県生活協同組合連合会
X-ORIGINAL-URL:https://eplan-e.com/wp-521
X-WR-CALDESC:神奈川県生活協同組合連合会 のイベント
BEGIN:VTIMEZONE
TZID:Asia/Tokyo
BEGIN:STANDARD
TZOFFSETFROM:+0900
TZOFFSETTO:+0900
TZNAME:JST
DTSTART:20200101T000000
END:STANDARD
END:VTIMEZONE
BEGIN:VEVENT
DTSTART;TZID=Asia/Tokyo:20200721T130000
DTEND;TZID=Asia/Tokyo:20200721T140000
DTSTAMP:20260426T043228
CREATED:20200504T024730Z
LAST-MODIFIED:20200504T024730Z
UID:8445-1595336400-1595340000@eplan-e.com
SUMMARY:第1回常務理事会
DESCRIPTION:
URL:https://eplan-e.com/wp-521/calendar/%e7%ac%ac1%e5%9b%9e%e5%b8%b8%e5%8b%99%e7%90%86%e4%ba%8b%e4%bc%9a-2/
LOCATION:神奈川県生協連会議室
END:VEVENT
BEGIN:VEVENT
DTSTART;TZID=Asia/Tokyo:20200721T140000
DTEND;TZID=Asia/Tokyo:20200721T160000
DTSTAMP:20260426T043228
CREATED:20200503T042156Z
LAST-MODIFIED:20200503T042156Z
UID:8437-1595340000-1595347200@eplan-e.com
SUMMARY:第2回理事会
DESCRIPTION:
URL:https://eplan-e.com/wp-521/calendar/%e7%ac%ac2%e5%9b%9e%e7%90%86%e4%ba%8b%e4%bc%9a-2/
LOCATION:全労済会館
END:VEVENT
END:VCALENDAR