BEGIN:VCALENDAR
VERSION:2.0
PRODID:-//神奈川県生活協同組合連合会 - ECPv5.9.1//NONSGML v1.0//EN
CALSCALE:GREGORIAN
METHOD:PUBLISH
X-WR-CALNAME:神奈川県生活協同組合連合会
X-ORIGINAL-URL:https://eplan-e.com/wp-521
X-WR-CALDESC:神奈川県生活協同組合連合会 のイベント
BEGIN:VTIMEZONE
TZID:Asia/Tokyo
BEGIN:STANDARD
TZOFFSETFROM:+0900
TZOFFSETTO:+0900
TZNAME:JST
DTSTART:20200101T000000
END:STANDARD
END:VTIMEZONE
BEGIN:VEVENT
DTSTART;VALUE=DATE:20200507
DTEND;VALUE=DATE:20200520
DTSTAMP:20260426T080015
CREATED:20190806T155956Z
LAST-MODIFIED:20200521T015225Z
UID:6966-1588809600-1589932799@eplan-e.com
SUMMARY:ピースリレー(平和行進)　中止
DESCRIPTION:
URL:https://eplan-e.com/wp-521/calendar/%e3%83%94%e3%83%bc%e3%82%b9%e3%83%aa%e3%83%ac%e3%83%bc%e5%b9%b3%e5%92%8c%e8%a1%8c%e9%80%b2/
END:VEVENT
BEGIN:VEVENT
DTSTART;TZID=Asia/Tokyo:20200514T130000
DTEND;TZID=Asia/Tokyo:20200514T150000
DTSTAMP:20260426T080015
CREATED:20190806T160100Z
LAST-MODIFIED:20200521T015308Z
UID:6967-1589461200-1589468400@eplan-e.com
SUMMARY:医療部会(第10回組織責任者会議) 中止
DESCRIPTION:
URL:https://eplan-e.com/wp-521/calendar/%e5%8c%bb%e7%99%82%e9%83%a8%e4%bc%9a%e7%ac%ac6%e5%9b%9e%e7%b5%84%e7%b9%94%e8%b2%ac%e4%bb%bb%e8%80%85%e4%bc%9a%e8%ad%b0/
END:VEVENT
BEGIN:VEVENT
DTSTART;TZID=Asia/Tokyo:20200514T130000
DTEND;TZID=Asia/Tokyo:20200514T160000
DTSTAMP:20260426T080015
CREATED:20190806T160215Z
LAST-MODIFIED:20200521T015340Z
UID:6968-1589461200-1589472000@eplan-e.com
SUMMARY:消団連定例幹事会 中止
DESCRIPTION:
URL:https://eplan-e.com/wp-521/calendar/%e6%b6%88%e5%9b%a3%e9%80%a3%e5%ae%9a%e4%be%8b%e5%b9%b9%e4%ba%8b%e4%bc%9a-16/
LOCATION:神奈川県生協連会議室
END:VEVENT
BEGIN:VEVENT
DTSTART;TZID=Asia/Tokyo:20200514T151500
DTEND;TZID=Asia/Tokyo:20200514T171500
DTSTAMP:20260426T080015
CREATED:20190529T133932Z
LAST-MODIFIED:20200521T015409Z
UID:5744-1589469300-1589476500@eplan-e.com
SUMMARY:第4回神奈川エリア大学習会実行委員会 中止
DESCRIPTION:
URL:https://eplan-e.com/wp-521/calendar/%e7%a5%9e%e5%a5%88%e5%b7%9d%e3%82%a8%e3%83%aa%e3%82%a2%e5%a4%a7%e5%ad%a6%e7%bf%92%e4%bc%9a%e5%ae%9f%e8%a1%8c%e5%a7%94%e5%93%a1%e4%bc%9a-2/
END:VEVENT
END:VCALENDAR