BEGIN:VCALENDAR
VERSION:2.0
PRODID:-//神奈川県生活協同組合連合会 - ECPv5.9.1//NONSGML v1.0//EN
CALSCALE:GREGORIAN
METHOD:PUBLISH
X-WR-CALNAME:神奈川県生活協同組合連合会
X-ORIGINAL-URL:https://eplan-e.com/wp-521
X-WR-CALDESC:神奈川県生活協同組合連合会 のイベント
BEGIN:VTIMEZONE
TZID:Asia/Tokyo
BEGIN:STANDARD
TZOFFSETFROM:+0900
TZOFFSETTO:+0900
TZNAME:JST
DTSTART:20200101T000000
END:STANDARD
END:VTIMEZONE
BEGIN:VEVENT
DTSTART;TZID=Asia/Tokyo:20200411T143000
DTEND;TZID=Asia/Tokyo:20200411T170000
DTSTAMP:20260426T094355
CREATED:20191026T231453Z
LAST-MODIFIED:20191026T231453Z
UID:7554-1586615400-1586624400@eplan-e.com
SUMMARY:医療部会第２回監事交流会
DESCRIPTION:
URL:https://eplan-e.com/wp-521/calendar/%e5%8c%bb%e7%99%82%e9%83%a8%e4%bc%9a%e7%ac%ac%ef%bc%92%e5%9b%9e%e7%9b%a3%e4%ba%8b%e4%ba%a4%e6%b5%81%e4%bc%9a/
LOCATION:神奈川民医連５階
END:VEVENT
END:VCALENDAR