BEGIN:VCALENDAR
VERSION:2.0
PRODID:-//神奈川県生活協同組合連合会 - ECPv5.9.1//NONSGML v1.0//EN
CALSCALE:GREGORIAN
METHOD:PUBLISH
X-WR-CALNAME:神奈川県生活協同組合連合会
X-ORIGINAL-URL:https://eplan-e.com/wp-521
X-WR-CALDESC:神奈川県生活協同組合連合会 のイベント
BEGIN:VTIMEZONE
TZID:Asia/Tokyo
BEGIN:STANDARD
TZOFFSETFROM:+0900
TZOFFSETTO:+0900
TZNAME:JST
DTSTART:20200101T000000
END:STANDARD
END:VTIMEZONE
BEGIN:VEVENT
DTSTART;VALUE=DATE:20200312
DTEND;VALUE=DATE:20200313
DTSTAMP:20260426T114838
CREATED:20190806T153854Z
LAST-MODIFIED:20190806T153854Z
UID:6953-1583971200-1584057599@eplan-e.com
SUMMARY:消費者のつどい実行委員会
DESCRIPTION:
URL:https://eplan-e.com/wp-521/calendar/%e6%b6%88%e8%b2%bb%e8%80%85%e3%81%ae%e3%81%a4%e3%81%a9%e3%81%84%e5%ae%9f%e8%a1%8c%e5%a7%94%e5%93%a1%e4%bc%9a-8/
END:VEVENT
BEGIN:VEVENT
DTSTART;TZID=Asia/Tokyo:20200312T130000
DTEND;TZID=Asia/Tokyo:20200312T150000
DTSTAMP:20260426T114838
CREATED:20190806T153820Z
LAST-MODIFIED:20191004T055829Z
UID:6952-1584018000-1584025200@eplan-e.com
SUMMARY:医療部会(第8回組織責任者会議)
DESCRIPTION:
URL:https://eplan-e.com/wp-521/calendar/%e5%8c%bb%e7%99%82%e9%83%a8%e4%bc%9a%e7%ac%ac5%e5%9b%9e%e7%b5%84%e7%b9%94%e8%b2%ac%e4%bb%bb%e8%80%85%e4%bc%9a%e8%ad%b0/
END:VEVENT
BEGIN:VEVENT
DTSTART;TZID=Asia/Tokyo:20200312T130000
DTEND;TZID=Asia/Tokyo:20200312T160000
DTSTAMP:20260426T114838
CREATED:20190806T153957Z
LAST-MODIFIED:20190809T150525Z
UID:6954-1584018000-1584028800@eplan-e.com
SUMMARY:消団連定例幹事会
DESCRIPTION:
URL:https://eplan-e.com/wp-521/calendar/%e6%b6%88%e5%9b%a3%e9%80%a3%e5%ae%9a%e4%be%8b%e5%b9%b9%e4%ba%8b%e4%bc%9a-14/
LOCATION:神奈川県生協連会議室
END:VEVENT
BEGIN:VEVENT
DTSTART;TZID=Asia/Tokyo:20200312T151500
DTEND;TZID=Asia/Tokyo:20200312T171500
DTSTAMP:20260426T114838
CREATED:20191004T060417Z
LAST-MODIFIED:20191004T060417Z
UID:7428-1584026100-1584033300@eplan-e.com
SUMMARY:第3回エリア大学習会
DESCRIPTION:
URL:https://eplan-e.com/wp-521/calendar/%e7%ac%ac3%e5%9b%9e%e3%82%a8%e3%83%aa%e3%82%a2%e5%a4%a7%e5%ad%a6%e7%bf%92%e4%bc%9a/
END:VEVENT
END:VCALENDAR