BEGIN:VCALENDAR
VERSION:2.0
PRODID:-//神奈川県生活協同組合連合会 - ECPv5.9.1//NONSGML v1.0//EN
CALSCALE:GREGORIAN
METHOD:PUBLISH
X-WR-CALNAME:神奈川県生活協同組合連合会
X-ORIGINAL-URL:https://eplan-e.com/wp-521
X-WR-CALDESC:神奈川県生活協同組合連合会 のイベント
BEGIN:VTIMEZONE
TZID:Asia/Tokyo
BEGIN:STANDARD
TZOFFSETFROM:+0900
TZOFFSETTO:+0900
TZNAME:JST
DTSTART:20200101T000000
END:STANDARD
END:VTIMEZONE
BEGIN:VEVENT
DTSTART;TZID=Asia/Tokyo:20200219T140000
DTEND;TZID=Asia/Tokyo:20200219T160000
DTSTAMP:20260426T132856
CREATED:20190806T152855Z
LAST-MODIFIED:20190809T145204Z
UID:6948-1582120800-1582128000@eplan-e.com
SUMMARY:第3回大規模災害対策委員会
DESCRIPTION:
URL:https://eplan-e.com/wp-521/calendar/%e7%ac%ac3%e5%9b%9e%e5%a4%a7%e8%a6%8f%e6%a8%a1%e7%81%bd%e5%ae%b3%e5%af%be%e7%ad%96%e5%a7%94%e5%93%a1%e4%bc%9a/
LOCATION:神奈川県生協連会議室
END:VEVENT
END:VCALENDAR