BEGIN:VCALENDAR
VERSION:2.0
PRODID:-//神奈川県生活協同組合連合会 - ECPv5.9.1//NONSGML v1.0//EN
CALSCALE:GREGORIAN
METHOD:PUBLISH
X-WR-CALNAME:神奈川県生活協同組合連合会
X-ORIGINAL-URL:https://eplan-e.com/wp-521
X-WR-CALDESC:神奈川県生活協同組合連合会 のイベント
BEGIN:VTIMEZONE
TZID:Asia/Tokyo
BEGIN:STANDARD
TZOFFSETFROM:+0900
TZOFFSETTO:+0900
TZNAME:JST
DTSTART:20200101T000000
END:STANDARD
END:VTIMEZONE
BEGIN:VEVENT
DTSTART;VALUE=DATE:20200213
DTEND;VALUE=DATE:20200214
DTSTAMP:20260426T132940
CREATED:20190806T151401Z
LAST-MODIFIED:20190806T151401Z
UID:6944-1581552000-1581638399@eplan-e.com
SUMMARY:消費者のつどい実行委員会
DESCRIPTION:
URL:https://eplan-e.com/wp-521/calendar/%e6%b6%88%e8%b2%bb%e8%80%85%e3%81%ae%e3%81%a4%e3%81%a9%e3%81%84%e5%ae%9f%e8%a1%8c%e5%a7%94%e5%93%a1%e4%bc%9a-7/
END:VEVENT
BEGIN:VEVENT
DTSTART;TZID=Asia/Tokyo:20200213T130000
DTEND;TZID=Asia/Tokyo:20200213T160000
DTSTAMP:20260426T132941
CREATED:20190806T151623Z
LAST-MODIFIED:20190809T145049Z
UID:6945-1581598800-1581609600@eplan-e.com
SUMMARY:消団連定例幹事会
DESCRIPTION:
URL:https://eplan-e.com/wp-521/calendar/%e6%b6%88%e5%9b%a3%e9%80%a3%e5%ae%9a%e4%be%8b%e5%b9%b9%e4%ba%8b%e4%bc%9a-13/
LOCATION:神奈川県生協連会議室
END:VEVENT
END:VCALENDAR